BEGIN:VCALENDAR
VERSION:2.0
PRODID:-//jEvents 2.0 for Joomla//EN
CALSCALE:GREGORIAN
METHOD:PUBLISH
BEGIN:VEVENT
UID:f974fd4be8c28ea49cf8d7607e62939e
CATEGORIES:Kammann Events
CREATED:20260423T080026
SUMMARY:Hosenwoche
LOCATION:Osterholz\, Rotenburg\, Otterndorf
DESCRIPTION:Im Aktionszeitraum vom 25.04 – 02.05. erhältst du beim Kauf von 2 Hosen aus
  der Damen- oder Herrenabteilung -20 € RABATT.\n...\n* Gültig vom 25.04. - 
 02.05.26. Mindestpreis je Hose 59 €. Nicht mit anderen Rabatten und Aktione
 n kombinierbar. Gültig in Osterholz, Rotenburg und Otterndorf. \n \n
X-ALT-DESC;FMTTYPE=text/html:<p>Im Aktionszeitraum vom 25.04 – 02.05. erhältst du beim Kauf von 2 Hosen 
 aus der Damen- oder Herrenabteilung -20 € RABATT.</p><p>...</p><div class="
 x14z9mp xat24cr x1lziwak x1vvkbs xtlvy1s x126k92a"><div dir="auto">* Gültig
  vom 25.04. - 02.05.26. Mindestpreis je Hose 59 €. Nicht mit anderen Rabatt
 en und Aktionen kombinierbar. Gültig in Osterholz, Rotenburg und Otterndorf
 .</div></div><p>&nbsp;</p><p>&nbsp;</p>
DTSTAMP:20260423T151745
DTSTART:20260425T100000
DTEND:20260502T180000
SEQUENCE:0
TRANSP:OPAQUE
END:VEVENT
END:VCALENDAR