BEGIN:VCALENDAR
VERSION:2.0
PRODID:-//jEvents 2.0 for Joomla//EN
CALSCALE:GREGORIAN
METHOD:PUBLISH
BEGIN:VEVENT
UID:9b5b673401575f6eecbc97e5956883a7
CATEGORIES:Kammann Events
CREATED:20260423T072710
SUMMARY:Lascana Sommer Highlights
LOCATION:Osterholz\, Rotenburg\, Verden\, Lüneburg
DESCRIPTION:20% Rabatt ab morgen\nZeit für neue Wäsche oder Bademode? Dann ab morgen bi
 s einschließlich 2.5. von 20% Rabatt auf ALLES von Lascana profitieren.Komm
 t vorbei! Wir freuen uns auf euch in unserer Wäscheabteilung in Osterholz u
 nd Rotenburg, dem Wäschehaus Verden und dem WeWear-Store in Lüneburg....\n*
 Gültig vom 24.04.-02.05.2026 auf das gesamte LASCANA Sortiment. Nicht mit 
 anderen Rabattarten kombinierbar.\n
X-ALT-DESC;FMTTYPE=text/html:<p><span style="font-size: 14pt;"><strong>20% Rabatt ab morgen</strong></sp
 an></p><div class="xdj266r x14z9mp xat24cr x1lziwak x1vvkbs x126k92a"><div 
 dir="auto">Zeit für neue Wäsche oder Bademode? Dann ab morgen bis einschlie
 ßlich 2.5. von 20% Rabatt auf ALLES von Lascana profitieren.</div></div><di
 v class="x14z9mp xat24cr x1lziwak x1vvkbs xtlvy1s x126k92a"><div dir="auto"
 >Kommt vorbei! Wir freuen uns auf euch in unserer Wäscheabteilung in Osterh
 olz und Rotenburg, dem Wäschehaus Verden und dem WeWear-Store in Lüneburg.<
 /div></div><p>...</p><p>*Gültig vom 24.04.-02.05.2026 auf das gesamte LASC
 ANA Sortiment. Nicht mit anderen Rabattarten kombinierbar.</p>
DTSTAMP:20260423T152511
DTSTART:20260424T100000
DTEND:20260502T180000
SEQUENCE:0
TRANSP:OPAQUE
END:VEVENT
END:VCALENDAR